BEGIN:VCALENDAR
VERSION:2.0
PRODID:-//https://www.rotaryclubofnorthsydneysunrise.org.au///NONSGML kigkonsult.se iCalcreator 2.10.15//
METHOD:PUBLISH
BEGIN:VEVENT
UID:20200301T161651UTC-3911wemm1U@https://www.rotaryclubofnorthsydneysunris
 e.org.au/
DTSTAMP:20200301T161651Z
DESCRIPTION:\n\n \n Combined Meeting with Rotary Club of Crows Nest\, Lane 
 Cove and North Sydney \n \nThe Rotary Club of North Sydney Sunrise seeks t
 o recognize individuals and small businesses whose service\,\n \nperforman
 ce\, or workmanship has time and time again demonstrated their “Pride of W
 orkmanship”. \n \nAwards will be presented to:  TBA\n \n \n \nxxx\n \n \n 
 \n \n \n \n \n \n \n 
DTSTART:20200330T083000Z
DTEND:20200330T113000Z
LOCATION:Northbridge Golf Club (Sailors Bay Road\, Northbridge)
SUMMARY:Pride of Workmanship awards 
END:VEVENT
END:VCALENDAR
