BEGIN:VCALENDAR
VERSION:2.0
PRODID:-//https://www.rotaryclubofnorthsydneysunrise.org.au///NONSGML kigkonsult.se iCalcreator 2.10.15//
METHOD:PUBLISH
BEGIN:VEVENT
UID:20200301T161754UTC-9073i74eVM@https://www.rotaryclubofnorthsydneysunris
 e.org.au/
DTSTAMP:20200301T161754Z
DESCRIPTION: \nClub Forum  \nWe will discuss our current program and causes
  we wish to support in the future. In doing so\, we shall bear in mind our
  Club goals established last year to distribute our support amongst Rotary
  projects and the community. Please bring along your ideas\, suggestions a
 nd proposals – the more the better! \nThe agenda will include \n\nFinances
 \nSecretarial \n\n\nFoundation \nClub Service \nPublic relations \nCommuni
 ty\nYouth      \nInternational\nVocational - Pride of Workmanship dinner  
  \n\n\nAny other general business\n\n \n Guests are always welcome.\n \n 
 \n \n\n\n 
DTSTART:20200316T210000Z
DTEND:20200316T223000Z
LOCATION:Piato Restaurant (123 Blues Point Road\, McMahons Point NSW 2060\,
  Australia)
SUMMARY:Club Forum 
END:VEVENT
END:VCALENDAR
