BEGIN:VCALENDAR
VERSION:2.0
PRODID:-//https://www.rotaryclubofnorthsydneysunrise.org.au///NONSGML kigkonsult.se iCalcreator 2.10.15//
METHOD:PUBLISH
BEGIN:VEVENT
UID:20200301T160111UTC-30273txGVr@https://www.rotaryclubofnorthsydneysunris
 e.org.au/
DTSTAMP:20200301T160111Z
DESCRIPTION: This talk is about plastic waste. It will cover: \n\n·        
 the early history of plastic\, \n\n\n·        How the industry grew so big
   \n\n \n\n·        where it is today\n\n \n\n·        Some facts about re
 cycling &amp\; \n\n \n\n·        information about an exciting way to mini
 mise littering.\n\n \nDon Wilson had a successful business career includin
 g running a hire company. Since the year 2000 Don has been involved in bus
 hcare in the Northbridge area. He was the founder of Bushcare’s Major Day 
 Out. Starting with one site in Northbridge this initiative grew into a Nat
 ional event. In 2016\, 286 groups took part including groups from every st
 ate.  At 87 years old\, inspired by Craig Reucastle’s documentary\, Don st
 arted “Winning the War on Waste.” Later came “Get Fitter With Litter” &amp
 \; “Adopt a Street &amp\; Keep it Neat.”\n 
DTSTART:20200302T210000Z
DTEND:20200302T223000Z
LOCATION:Piato Restaurant (123 Blues Point Road\, McMahons Point NSW 2060\,
  Australia)
SUMMARY:Winning the War on Waste
END:VEVENT
END:VCALENDAR
