BEGIN:VCALENDAR
VERSION:2.0
PRODID:-//http://www.rotaryclubofnorthsydneysunrise.org.au///NONSGML kigkonsult.se iCalcreator 2.10.15//
METHOD:PUBLISH
BEGIN:VEVENT
UID:20200301T160602UTC-95522JS2IH@http://www.rotaryclubofnorthsydneysunrise
 .org.au/
DTSTAMP:20200301T160602Z
DESCRIPTION: \n \nno meeting - Pride of workmanship meeting previous day \n
  \n \n\n\n 
DTSTART:20200330T210000Z
DTEND:20200330T223000Z
LOCATION:Piato Restaurant (123 Blues Point Road\, McMahons Point NSW 2060\,
  Australia)
SUMMARY:no meeting - Pride of workmanship meeting previous day
END:VEVENT
END:VCALENDAR
