BEGIN:VCALENDAR
VERSION:2.0
PRODID:-//http://www.rotaryclubofnorthsydneysunrise.org.au///NONSGML kigkonsult.se iCalcreator 2.10.15//
METHOD:PUBLISH
BEGIN:VEVENT
UID:20200301T160650UTC-405988WVEl@http://www.rotaryclubofnorthsydneysunrise
 .org.au/
DTSTAMP:20200301T160650Z
DESCRIPTION:\n\n \nThe Rotary Club of North Sydney Sunrise  \ninvites you &
 amp\; your partner to a relaxed social dinner  \nat  Piato \n \n Tuesday 2
 4 March 2020   7:00 p.m. for 7:30 p.m.\n \n \n \n \n \n \n \n 
DTSTART:20200324T090000Z
DTEND:20200324T110000Z
LOCATION:Piato Restaurant (123 Blues Point Road\, McMahons Point NSW 2060\,
  Australia)
SUMMARY:Social Dinner meeting
END:VEVENT
END:VCALENDAR
